BEGIN:VCALENDAR
VERSION:2.0
PRODID:-//Connect: Inner West Community Transport Group - ECPv6.15.13.1//NONSGML v1.0//EN
CALSCALE:GREGORIAN
METHOD:PUBLISH
X-ORIGINAL-URL:http://connectinnerwest.org.au
X-WR-CALDESC:Events for Connect: Inner West Community Transport Group
REFRESH-INTERVAL;VALUE=DURATION:PT1H
X-Robots-Tag:noindex
X-PUBLISHED-TTL:PT1H
BEGIN:VTIMEZONE
TZID:Australia/Sydney
BEGIN:STANDARD
TZOFFSETFROM:+1100
TZOFFSETTO:+1000
TZNAME:AEST
DTSTART:20130406T160000
END:STANDARD
BEGIN:DAYLIGHT
TZOFFSETFROM:+1000
TZOFFSETTO:+1100
TZNAME:AEDT
DTSTART:20131005T160000
END:DAYLIGHT
BEGIN:STANDARD
TZOFFSETFROM:+1100
TZOFFSETTO:+1000
TZNAME:AEST
DTSTART:20140405T160000
END:STANDARD
BEGIN:DAYLIGHT
TZOFFSETFROM:+1000
TZOFFSETTO:+1100
TZNAME:AEDT
DTSTART:20141004T160000
END:DAYLIGHT
BEGIN:STANDARD
TZOFFSETFROM:+1100
TZOFFSETTO:+1000
TZNAME:AEST
DTSTART:20150404T160000
END:STANDARD
BEGIN:DAYLIGHT
TZOFFSETFROM:+1000
TZOFFSETTO:+1100
TZNAME:AEDT
DTSTART:20151003T160000
END:DAYLIGHT
BEGIN:STANDARD
TZOFFSETFROM:+1100
TZOFFSETTO:+1000
TZNAME:AEST
DTSTART:20160402T160000
END:STANDARD
BEGIN:DAYLIGHT
TZOFFSETFROM:+1000
TZOFFSETTO:+1100
TZNAME:AEDT
DTSTART:20161001T160000
END:DAYLIGHT
END:VTIMEZONE
BEGIN:VEVENT
DTSTART;VALUE=DATE:20150202
DTEND;VALUE=DATE:20150204
DTSTAMP:20260419T225405
CREATED:20141012T135943Z
LAST-MODIFIED:20141012T135943Z
UID:3627-1422838800-1422925199@connectinnerwest.org.au
SUMMARY:BLACKTOWN WESTPOINT SHOPPING CENTRE
DESCRIPTION:LUNCH –  At the food court onsite \nBOOKINGS – BOOKINGS OPEN – Tuesday\, 13th January\nBOOKINGS CLOSE – Friday\, 16th January
URL:http://connectinnerwest.org.au/event/blacktown-westpoint-shopping-centre/
LOCATION:Westpoint Shopping Centre\, 17 Patrick St\, Blacktown\, NSW \, 2148\, Australia
CATEGORIES:Leichhardt,Leichhardt Shopping Outings
END:VEVENT
BEGIN:VEVENT
DTSTART;VALUE=DATE:20150127
DTEND;VALUE=DATE:20150129
DTSTAMP:20260419T225405
CREATED:20141012T162548Z
LAST-MODIFIED:20141012T162548Z
UID:3646-1422320400-1422406799@connectinnerwest.org.au
SUMMARY:BROOKLYN
DESCRIPTION:LUNCH – Fish & Chips at Brooklyn Marina \nBOOKINGS –  BOOKINGS OPEN – Tuesday\, 6th January\nBOOKINGS CLOSE – Friday\, 9th January
URL:http://connectinnerwest.org.au/event/brooklyn-2/
LOCATION:Brooklyn Marina\, 45 Brooklyn Rd\, Brooklyn\, NSW \, 2083\, Australia
CATEGORIES:Leichhardt,Leichhardt Social Outings
END:VEVENT
BEGIN:VEVENT
DTSTART;VALUE=DATE:20150127
DTEND;VALUE=DATE:20150129
DTSTAMP:20260419T225405
CREATED:20141012T131602Z
LAST-MODIFIED:20141012T131602Z
UID:3619-1422320400-1422406799@connectinnerwest.org.au
SUMMARY:BROOKLYN
DESCRIPTION:LUNCH – Fish & Chips at Brooklyn Marina \nBOOKINGS –  BOOKINGS OPEN – Monday\, 12th January\nBOOKINGS CLOSE – Friday\, 16th January
URL:http://connectinnerwest.org.au/event/brooklyn/
LOCATION:Brooklyn Marina\, 45 Brooklyn Rd\, Brooklyn\, NSW \, 2083\, Australia
CATEGORIES:Marrickville,Marrickville Social Outings
END:VEVENT
BEGIN:VEVENT
DTSTART;VALUE=DATE:20150126
DTEND;VALUE=DATE:20150128
DTSTAMP:20260419T225405
CREATED:20150129T154858Z
LAST-MODIFIED:20150129T155213Z
UID:3778-1422234000-1422320399@connectinnerwest.org.au
SUMMARY:AUSTRALIA DAY
DESCRIPTION:Public Holiday
URL:http://connectinnerwest.org.au/event/australia-day/
LOCATION:New South Wales
CATEGORIES:Leichhardt,Leichhardt Shopping Outings,Leichhardt Social Outings,Marrickville,Marrickville Shopping Outings,Marrickville Social Outings,Short Day Social Outings
END:VEVENT
BEGIN:VEVENT
DTSTART;VALUE=DATE:20150119
DTEND;VALUE=DATE:20150121
DTSTAMP:20260419T225405
CREATED:20150118T155801Z
LAST-MODIFIED:20150118T155801Z
UID:3744-1421629200-1421715599@connectinnerwest.org.au
SUMMARY:DRIVE TO HOMEBUSH OLYMPIC PARK
DESCRIPTION:LUNCH – Ashfield RSL Club Buffet Restaurant – $12.90 \nBOOKINGS – BOOKINGS OPEN – Monday\, 1st June \nBOOKINGS CLOSE – Friday\, 5th June
URL:http://connectinnerwest.org.au/event/drive-to-homebush-olympic-park/
LOCATION:Ashfield RSL Club\, 374 Liverpool Road\, Ashfield\, NSW\, 2131\, Australia
CATEGORIES:Leichhardt,Marrickville,Short Day Social Outings
END:VEVENT
BEGIN:VEVENT
DTSTART;VALUE=DATE:20150116
DTEND;VALUE=DATE:20150118
DTSTAMP:20260419T225405
CREATED:20141012T144613Z
LAST-MODIFIED:20150118T153112Z
UID:3632-1421370000-1421456399@connectinnerwest.org.au
SUMMARY:DRIVE TO CRONULLA BEACH
DESCRIPTION:LUNCH – Taren Point Bowling Club \nBOOKINGS – BOOKINGS OPEN – Monday\, 1st December \nBOOKINGS CLOSE – Friday\, 5th December
URL:http://connectinnerwest.org.au/event/drive-to-cronulla-beach/
LOCATION:Taren Point Bowling Club\, 203 Holt Road\, Taren Point\, NSW\, 2229\, Australia
CATEGORIES:Leichhardt,Marrickville,Short Day Social Outings
END:VEVENT
BEGIN:VEVENT
DTSTART;VALUE=DATE:20150113
DTEND;VALUE=DATE:20150115
DTSTAMP:20260419T225405
CREATED:20141012T131127Z
LAST-MODIFIED:20141012T131127Z
UID:3617-1421110800-1421197199@connectinnerwest.org.au
SUMMARY:KIAMA
DESCRIPTION:LUNCH – Kiama Leagues Club \nBOOKINGS – BOOKINGS OPEN – Tuesday\, 9th December\nBOOKINGS CLOSE – Friday\, 12th December
URL:http://connectinnerwest.org.au/event/kiama/
LOCATION:Kiama Leagues Club\, 109 Terralong St\, Kiama \, NSW \, 2533\, Australia
CATEGORIES:Marrickville,Marrickville Social Outings
END:VEVENT
BEGIN:VEVENT
DTSTART;VALUE=DATE:20150112
DTEND;VALUE=DATE:20150114
DTSTAMP:20260419T225405
CREATED:20141012T162211Z
LAST-MODIFIED:20141012T162211Z
UID:3645-1421024400-1421110799@connectinnerwest.org.au
SUMMARY:KIAMA
DESCRIPTION:LUNCH – Kiama Leagues Club \nBOOKINGS – BOOKINGS OPEN – Monday\, 8th December\nBOOKINGS CLOSE – Friday\, 12th December
URL:http://connectinnerwest.org.au/event/kiama-2/
LOCATION:Kiama Leagues Club\, 109 Terralong St\, Kiama \, NSW \, 2533\, Australia
CATEGORIES:Leichhardt,Leichhardt Social Outings
END:VEVENT
BEGIN:VEVENT
DTSTART;VALUE=DATE:20150109
DTEND;VALUE=DATE:20150111
DTSTAMP:20260419T225405
CREATED:20141012T135342Z
LAST-MODIFIED:20141012T135342Z
UID:3625-1420765200-1420851599@connectinnerwest.org.au
SUMMARY:ROSELANDS SHOPPING CENTRE
DESCRIPTION:LUNCH –  At the food court onsite \nBOOKINGS – BOOKINGS OPEN – Tuesday\, 2nd December\nBOOKINGS CLOSE – Friday\, 5th December
URL:http://connectinnerwest.org.au/event/roselands-shopping-centre/
LOCATION:Centro Roselands\, Roselands Dr\, Roselands\, NSW \, 2196\, Australia
CATEGORIES:Leichhardt,Leichhardt Shopping Outings
END:VEVENT
BEGIN:VEVENT
DTSTART;VALUE=DATE:20141212
DTEND;VALUE=DATE:20141214
DTSTAMP:20260419T225405
CREATED:20141012T161724Z
LAST-MODIFIED:20141012T161914Z
UID:3642-1418346000-1418432399@connectinnerwest.org.au
SUMMARY:CHRISTMAS LIGHTS VIEWING & DINNER
DESCRIPTION:LUNCH – Canterbury Hurlstone Park RSL – Club Chinese Restaurant \nBOOKINGS – BOOKINGS OPEN – Monday\, 17th November\nBOOKINGS CLOSE – Friday\, 21st November \nA Carer does not pay for transport but has to pay for the meal. Deadline for the final payment is by Friday\, 28th November. \n3-Course Meal Dinner – $17 \nTransport Cost only for this outing – $6 \nTotal: $23
URL:http://connectinnerwest.org.au/event/christmas-lights-viewing-dinner-2/
LOCATION:Christmas Lights Viewing\, Second Avenue\, Ashbury\, NSW\, 2193\, Australia
CATEGORIES:Leichhardt,Leichhardt Social Outings
END:VEVENT
BEGIN:VEVENT
DTSTART;VALUE=DATE:20141212
DTEND;VALUE=DATE:20141214
DTSTAMP:20260419T225405
CREATED:20141012T125732Z
LAST-MODIFIED:20141012T161800Z
UID:3612-1418346000-1418432399@connectinnerwest.org.au
SUMMARY:CHRISTMAS LIGHTS VIEWING & DINNER
DESCRIPTION:LUNCH – Canterbury Hurlstone Park RSL – Club Chinese Restaurant \nBOOKINGS – BOOKINGS OPEN – Tuesday\, 18th November\nBOOKINGS CLOSE – Friday\, 21st November \n  \nA Carer does not pay for transport but has to pay for the meal. Deadline for the final payment is by Friday\, 28th November. \n3-Course Meal Dinner – $17 \nTransport Cost only for this outing – $6 \nTotal: $23
URL:http://connectinnerwest.org.au/event/christmas-lights-viewing-dinner/
LOCATION:Christmas Lights Viewing\, Second Avenue\, Ashbury\, NSW\, 2193\, Australia
CATEGORIES:Marrickville,Marrickville Social Outings
END:VEVENT
BEGIN:VEVENT
DTSTART;VALUE=DATE:20141128
DTEND;VALUE=DATE:20141130
DTSTAMP:20260419T225405
CREATED:20140730T114838Z
LAST-MODIFIED:20141012T130407Z
UID:3551-1417136400-1417222799@connectinnerwest.org.au
SUMMARY:EASTGARDENS WESTFIELD
DESCRIPTION:LUNCH – At the Food Court onsite \nBOOKINGS BOOKINGS OPEN – Monday\, 13th October\nBOOKINGS CLOSE – Friday\, 17th October
URL:http://connectinnerwest.org.au/event/eastgardens-westfield-2/
LOCATION:Westfield Eastgardens\, 152 Bunnerong Rd \, Sydney \, NSW \, 2036\, Australia
CATEGORIES:Marrickville,Marrickville Shopping Outings
END:VEVENT
BEGIN:VEVENT
DTSTART;VALUE=DATE:20141125
DTEND;VALUE=DATE:20141127
DTSTAMP:20260419T225405
CREATED:20141012T122615Z
LAST-MODIFIED:20141012T130746Z
UID:3610-1416877200-1416963599@connectinnerwest.org.au
SUMMARY:OURIMBAH
DESCRIPTION:LUNCH – Ourimbah-Lisarow RSL Club \nBOOKINGS – BOOKINGS OPEN – Monday\, 10th November\nBOOKINGS CLOSE – Friday\, 14th November
URL:http://connectinnerwest.org.au/event/ourimbah/
LOCATION:Ourimbah-Lisarow RSL Club\, 6/22 Pacific Hwy\, Ourimbah\, NSW \, Australia
CATEGORIES:Marrickville,Marrickville Social Outings
END:VEVENT
BEGIN:VEVENT
DTSTART;VALUE=DATE:20141124
DTEND;VALUE=DATE:20141126
DTSTAMP:20260419T225405
CREATED:20141012T160934Z
LAST-MODIFIED:20141012T161237Z
UID:3640-1416790800-1416877199@connectinnerwest.org.au
SUMMARY:OURIMBAH
DESCRIPTION:LUNCH – Ourimbah-Lisarow RSL Club \nBOOKINGS – BOOKINGS OPEN – Monday\, 3rd November\nBOOKINGS CLOSE – Friday\, 7th November
URL:http://connectinnerwest.org.au/event/ourimbah-2/
LOCATION:Ourimbah-Lisarow RSL Club\, 6/22 Pacific Hwy\, Ourimbah\, NSW \, Australia
CATEGORIES:Leichhardt,Leichhardt Social Outings
END:VEVENT
BEGIN:VEVENT
DTSTART;VALUE=DATE:20141121
DTEND;VALUE=DATE:20141123
DTSTAMP:20260419T225405
CREATED:20140726T184730Z
LAST-MODIFIED:20141019T120007Z
UID:3511-1416531600-1416617999@connectinnerwest.org.au
SUMMARY:CABARITA PARK
DESCRIPTION:Lunch: Canada Bay RSL Club \nBOOKINGS OPEN ~ Monday\, 3rd November\nBOOKINGS CLOSE ~ Friday\, 7th November
URL:http://connectinnerwest.org.au/event/cabarita-park/
LOCATION:CABARITA PARK\, Cabarita\, NSW\, 2137\, Australia
CATEGORIES:Leichhardt,Marrickville,Short Day Social Outings
END:VEVENT
BEGIN:VEVENT
DTSTART;VALUE=DATE:20141111
DTEND;VALUE=DATE:20141113
DTSTAMP:20260419T225405
CREATED:20141012T113816Z
LAST-MODIFIED:20141012T130808Z
UID:3606-1415667600-1415753999@connectinnerwest.org.au
SUMMARY:EDOGAWA JAPANESE GARDENS
DESCRIPTION:LUNCH – Central Coast Leagues Club \nBOOKINGS – BOOKINGS OPEN – Monday\, 27th October\nBOOKINGS CLOSE – Friday\, 31st October
URL:http://connectinnerwest.org.au/event/edogawa-japanese-gardens/
LOCATION:Gosford Regional Gallery & Edogawa Commemorative Garden\, 36 Webb St\, Gosford East\, NSW \, 2250\, Australia
CATEGORIES:Marrickville,Marrickville Social Outings
END:VEVENT
BEGIN:VEVENT
DTSTART;VALUE=DATE:20141110
DTEND;VALUE=DATE:20141112
DTSTAMP:20260419T225405
CREATED:20141012T160805Z
LAST-MODIFIED:20141012T160805Z
UID:3639-1415581200-1415667599@connectinnerwest.org.au
SUMMARY:EDOGAWA JAPANESE GARDENS
DESCRIPTION:LUNCH – Central Coast Leagues Club \nBOOKINGS – BOOKINGS OPEN – Monday\, 20th October\nBOOKINGS CLOSE – Friday\, 24TH October
URL:http://connectinnerwest.org.au/event/edogawa-japanese-gardens-2/
LOCATION:Gosford Regional Gallery & Edogawa Commemorative Garden\, 36 Webb St\, Gosford East\, NSW \, 2250\, Australia
CATEGORIES:Leichhardt,Leichhardt Social Outings
END:VEVENT
BEGIN:VEVENT
DTSTART;VALUE=DATE:20141103
DTEND;VALUE=DATE:20141105
DTSTAMP:20260419T225405
CREATED:20140730T105533Z
LAST-MODIFIED:20141019T115223Z
UID:3539-1414976400-1415062799@connectinnerwest.org.au
SUMMARY:EASTGARDENS WESTFIELD
DESCRIPTION:LUNCH At the Food court onsite \nBOOKINGS BOOKINGS OPEN – MONDAY\, 13TH OCTOBER\nBOOKINGS CLOSE – FRIDAY\, 17TH OCTOBER
URL:http://connectinnerwest.org.au/event/eastgardens-westfield/
LOCATION:Westfield Eastgardens\, 152 Bunnerong Rd \, Sydney \, NSW \, 2036\, Australia
CATEGORIES:Leichhardt,Leichhardt Shopping Outings
END:VEVENT
BEGIN:VEVENT
DTSTART;VALUE=DATE:20141031
DTEND;VALUE=DATE:20141102
DTSTAMP:20260419T225405
CREATED:20140730T114711Z
LAST-MODIFIED:20140730T114711Z
UID:3550-1414717200-1414803599@connectinnerwest.org.au
SUMMARY:MACARTHUR SQUARE
DESCRIPTION:LUNCH At the Food court onsite \nBOOKINGS BOOKINGS OPEN – MONDAY\, 15TH SEPT.\nBOOKINGS CLOSE – FRIDAY\, 19TH SEPT.
URL:http://connectinnerwest.org.au/event/macarthur-square-2/
LOCATION:Macarthur Square Shopping Centre\, 200 Gilchrist Dr \, Campbelltown \, NSW \, 2560\, Australia
CATEGORIES:Marrickville,Marrickville Shopping Outings
END:VEVENT
BEGIN:VEVENT
DTSTART;VALUE=DATE:20141028
DTEND;VALUE=DATE:20141030
DTSTAMP:20260419T225405
CREATED:20140730T113151Z
LAST-MODIFIED:20141019T124604Z
UID:3547-1414458000-1414544399@connectinnerwest.org.au
SUMMARY:WOLLONGONG BOTANIC GARDENS
DESCRIPTION:LUNCH~ Master’s Builders’ Club \nBOOKINGS – BOOKINGS OPEN – Monday\, 13th October\nBOOKINGS CLOSE – Friday\, 17th October
URL:http://connectinnerwest.org.au/event/wollongong-botanic-gardens-2/
LOCATION:Wollongong Botanic Gardens\, Murphys Ave \, Keiraville \, NSW \, 2500\, Australia
CATEGORIES:Marrickville,Marrickville Social Outings
END:VEVENT
BEGIN:VEVENT
DTSTART;VALUE=DATE:20141027
DTEND;VALUE=DATE:20141029
DTSTAMP:20260419T225405
CREATED:20140730T102521Z
LAST-MODIFIED:20141019T123311Z
UID:3533-1414371600-1414457999@connectinnerwest.org.au
SUMMARY:WOLLONGONG BOTANIC GARDENS
DESCRIPTION:LUNCH – Master’s Builders’ Club \nBOOKINGS – BOOKINGS OPEN – Monday\, 13th October\nBOOKINGS CLOSE – Friday\, 17th October
URL:http://connectinnerwest.org.au/event/wollongong-botanic-gardens/
LOCATION:Wollongong Botanic Gardens\, Murphys Ave \, Keiraville \, NSW \, 2500\, Australia
CATEGORIES:Leichhardt,Leichhardt Social Outings
END:VEVENT
BEGIN:VEVENT
DTSTART;VALUE=DATE:20141017
DTEND;VALUE=DATE:20141019
DTSTAMP:20260419T225405
CREATED:20140726T184402Z
LAST-MODIFIED:20140726T184811Z
UID:3509-1413507600-1413593999@connectinnerwest.org.au
SUMMARY:PARRAMATTA PARK
DESCRIPTION:Lunch: Merrylands RSL Club\nBOOKINGS OPEN ~ MONDAY\, 22ND SEPTEMBER\nBOOKINGS CLOSE ~ FRIDAY\, 26TH SEPTEMBER
URL:http://connectinnerwest.org.au/event/parramatta-park/
LOCATION:PARRAMATTA PARK\, Macquarie St\, Parramatta\, NSW\, 2150\, Australia
CATEGORIES:Leichhardt,Marrickville,Short Day Social Outings
END:VEVENT
BEGIN:VEVENT
DTSTART;VALUE=DATE:20141014
DTEND;VALUE=DATE:20141016
DTSTAMP:20260419T225405
CREATED:20140730T113015Z
LAST-MODIFIED:20140730T113015Z
UID:3546-1413248400-1413334799@connectinnerwest.org.au
SUMMARY:COBBITTY WINERY
DESCRIPTION:LUNCH~ Marconi Club \nBOOKINGS~ BOOKINGS OPEN – MONDAY\, 15TH September\nBOOKINGS CLOSE – FRIDAY\, 19TH September
URL:http://connectinnerwest.org.au/event/cobbitty-winery-2/
LOCATION:Cobbitty Wines\, 40 Cobbitty Rd\, Cobbitty \, NSW \, 2570\, Australia
CATEGORIES:Marrickville,Marrickville Social Outings
END:VEVENT
BEGIN:VEVENT
DTSTART;VALUE=DATE:20141013
DTEND;VALUE=DATE:20141015
DTSTAMP:20260419T225405
CREATED:20140730T102033Z
LAST-MODIFIED:20140730T102033Z
UID:3531-1413162000-1413248399@connectinnerwest.org.au
SUMMARY:COBBITTY WINERY
DESCRIPTION:LUNCH~ Marconi Club \nBOOKINGS~ BOOKINGS OPEN – MONDAY\, 15TH September\nBOOKINGS CLOSE – FRIDAY\, 19TH September
URL:http://connectinnerwest.org.au/event/cobbitty-winery/
LOCATION:Cobbitty Wines\, 40 Cobbitty Rd\, Cobbitty \, NSW \, 2570\, Australia
CATEGORIES:Leichhardt,Leichhardt Social Outings
END:VEVENT
BEGIN:VEVENT
DTSTART;VALUE=DATE:20141006
DTEND;VALUE=DATE:20141008
DTSTAMP:20260419T225405
CREATED:20140730T105126Z
LAST-MODIFIED:20140730T105126Z
UID:3537-1412557200-1412643599@connectinnerwest.org.au
SUMMARY:MACARTHUR SQUARE
DESCRIPTION:LUNCH At the Food court onsite \nBOOKINGS BOOKINGS OPEN – MONDAY\, 15TH SEPT.\nBOOKINGS CLOSE – FRIDAY\, 19TH SEPT.
URL:http://connectinnerwest.org.au/event/macarthur-square/
LOCATION:Macarthur Square Shopping Centre\, 200 Gilchrist Dr \, Campbelltown \, NSW \, 2560\, Australia
CATEGORIES:Leichhardt,Leichhardt Shopping Outings
END:VEVENT
BEGIN:VEVENT
DTSTART;VALUE=DATE:20140926
DTEND;VALUE=DATE:20140927
DTSTAMP:20260419T225405
CREATED:20140730T114258Z
LAST-MODIFIED:20140730T114415Z
UID:3548-1411689600-1411775999@connectinnerwest.org.au
SUMMARY:WESTFIELD LIVERPOOL
DESCRIPTION:LUNCH At the Food court onsite \nBOOKINGS BOOKINGS OPEN – MONDAY\, 11TH AUGUST\nBOOKINGS CLOSE – FRIDAY\, 15TH AUGUST
URL:http://connectinnerwest.org.au/event/westfield-liverpool-2/
LOCATION:Westfield Liverpool\, Macquarie St\, Liverpool \, NSW\, 2170\, Australia
CATEGORIES:Marrickville,Marrickville Shopping Outings
END:VEVENT
BEGIN:VEVENT
DTSTART;VALUE=DATE:20140923
DTEND;VALUE=DATE:20140924
DTSTAMP:20260419T225405
CREATED:20140730T112834Z
LAST-MODIFIED:20140730T112834Z
UID:3545-1411430400-1411516799@connectinnerwest.org.au
SUMMARY:BOWRAL TULIP FESTIVAL
DESCRIPTION:LUNCH~ At many Cafés onsite \nBOOKINGS~ BOOKINGS OPEN – MONDAY\, 1ST September\nBOOKINGS CLOSE- FRIDAY\, 5TH September
URL:http://connectinnerwest.org.au/event/bowral-tulip-festival-2/
LOCATION:Corbett Gardens\, Wingecarribee St\, Bowral\, NSW\, 2576\, Australia
CATEGORIES:Marrickville,Marrickville Social Outings
END:VEVENT
BEGIN:VEVENT
DTSTART;VALUE=DATE:20140922
DTEND;VALUE=DATE:20140923
DTSTAMP:20260419T225405
CREATED:20140730T101818Z
LAST-MODIFIED:20140730T101818Z
UID:3529-1411344000-1411430399@connectinnerwest.org.au
SUMMARY:BOWRAL TULIP FESTIVAL
DESCRIPTION:LUNCH~ At many Cafés onsite \nBOOKINGS~ BOOKINGS OPEN – MONDAY\, 1ST September\nBOOKINGS CLOSE- FRIDAY\, 5TH September
URL:http://connectinnerwest.org.au/event/bowral-tulip-festival/
LOCATION:Corbett Gardens\, Wingecarribee St\, Bowral\, NSW\, 2576\, Australia
CATEGORIES:Leichhardt,Leichhardt Social Outings
END:VEVENT
BEGIN:VEVENT
DTSTART;VALUE=DATE:20140919
DTEND;VALUE=DATE:20140920
DTSTAMP:20260419T225405
CREATED:20140726T184052Z
LAST-MODIFIED:20140726T184110Z
UID:3507-1411084800-1411171199@connectinnerwest.org.au
SUMMARY:LA PEROUSE
DESCRIPTION:Lunch: Fish & Chips @ ANY TAKEAWAY \nBOOKINGS OPEN ~ MONDAY\, 25TH AUGUST\nBOOKINGS CLOSE ~ FRIDAY\, 29TH AUGUST
URL:http://connectinnerwest.org.au/event/la-perouse/
LOCATION:LA PEROUSE\, Anzace Pde\, NSW \, 2036\, Australia
CATEGORIES:Leichhardt,Marrickville,Short Day Social Outings
END:VEVENT
BEGIN:VEVENT
DTSTART;VALUE=DATE:20140909
DTEND;VALUE=DATE:20140910
DTSTAMP:20260419T225405
CREATED:20140730T112641Z
LAST-MODIFIED:20140730T112641Z
UID:3544-1410220800-1410307199@connectinnerwest.org.au
SUMMARY:NORTH HEAD & QUARANTINE STATION
DESCRIPTION:LUNCH~ Mosman RSL Club \nBOOKINGS~ BOOKINGS OPEN – MONDAY\, 18th August\nBOOKINGS CLOSE – FRIDAY\, 22ND August
URL:http://connectinnerwest.org.au/event/north-head-quarantine-station-2/
LOCATION:North Head Quarantine Station\, 1 N Head Scenic Dr\, NSW\, 2095\, Australia
CATEGORIES:Marrickville,Marrickville Social Outings
END:VEVENT
END:VCALENDAR